BEGIN:VCALENDAR
VERSION:2.0
PRODID:-//South Tahoe Now - ECPv6.15.20//NONSGML v1.0//EN
CALSCALE:GREGORIAN
METHOD:PUBLISH
X-ORIGINAL-URL:https://southtahoenow.com
X-WR-CALDESC:Events for South Tahoe Now
REFRESH-INTERVAL;VALUE=DURATION:PT1H
X-Robots-Tag:noindex
X-PUBLISHED-TTL:PT1H
BEGIN:VTIMEZONE
TZID:America/Los_Angeles
BEGIN:DAYLIGHT
TZOFFSETFROM:-0800
TZOFFSETTO:-0700
TZNAME:PDT
DTSTART:20240310T100000
END:DAYLIGHT
BEGIN:STANDARD
TZOFFSETFROM:-0700
TZOFFSETTO:-0800
TZNAME:PST
DTSTART:20241103T090000
END:STANDARD
BEGIN:DAYLIGHT
TZOFFSETFROM:-0800
TZOFFSETTO:-0700
TZNAME:PDT
DTSTART:20250309T100000
END:DAYLIGHT
BEGIN:STANDARD
TZOFFSETFROM:-0700
TZOFFSETTO:-0800
TZNAME:PST
DTSTART:20251102T090000
END:STANDARD
BEGIN:DAYLIGHT
TZOFFSETFROM:-0800
TZOFFSETTO:-0700
TZNAME:PDT
DTSTART:20260308T100000
END:DAYLIGHT
BEGIN:STANDARD
TZOFFSETFROM:-0700
TZOFFSETTO:-0800
TZNAME:PST
DTSTART:20261101T090000
END:STANDARD
END:VTIMEZONE
BEGIN:VEVENT
DTSTART;TZID=America/Los_Angeles:20250425T180000
DTEND;TZID=America/Los_Angeles:20250425T203000
DTSTAMP:20260420T055024
CREATED:20250324T054625Z
LAST-MODIFIED:20250324T054714Z
UID:78797-1745604000-1745613000@southtahoenow.com
SUMMARY:Spring in Tahoe Square Dance Party
DESCRIPTION:Spring in Tahoe Square Dance Party on April 25 from 6 p.m. to 8:30 p.m. This is a one-night party to introduce Modern Western Square Dancing. No experience is needed\, and no partner is needed. We dance to all genres of music. Ages 12 and up. \nHeld at South Lake Tahoe Senior Center\, 3050 Lake Tahoe Blvd.\, South Lake Tahoe\, CA \nSuggested Donation $8.00 \nSPONSORED BY SOUTH LAKE TAHOE SENIOR CITIZENS\, INC. \nCARSON VALLEY SQUARES PRESENTS \nInfo: Beth Symons 530-577-6934\nCaller: Scott Olson 916-761-0894\nwww.cvsquares.com Facebook: Carson Valley Squares \nSee flyer here: \nSpring in Tahoe 2025-04-25
URL:https://southtahoenow.com/event/spring-in-tahoe-square-dance-party
ATTACH;FMTTYPE=image/png:https://southtahoenow.com/wp-content/uploads/2025/03/Screenshot-123.png
END:VEVENT
BEGIN:VEVENT
DTSTART;TZID=America/Los_Angeles:20250425T183000
DTEND;TZID=America/Los_Angeles:20250425T213000
DTSTAMP:20260420T055024
CREATED:20250324T165253Z
LAST-MODIFIED:20250324T165253Z
UID:78802-1745605800-1745616600@southtahoenow.com
SUMMARY:Reel Rock 19 Film Tour
DESCRIPTION:Join the Tahoe Climbing Coalition as they host Reel Rock in South Lake Tahoe on April 25 at the South Tahoe High School Theater. Doors at 6:30 p.m.\, show at 7 p.m. Tickets are $25 and proceeds support the coalition operations. \nBuy tickets at https://www.tahoeclimbingcoalition.org/reel-rock \nReel Rock 19 showcases three world-premiere climbing films spanning disciplines\, characters\, and continents: a heartfelt story of second chances in love and climbing on Squamish’s legendary Cobra Crack; an outrageous 18-day big wall epic on Patagonia’s towering Torre Central; and the pursuit of a lifelong dream—a 5.15 first ascent—made possible by an unlikely partnership.”
URL:https://southtahoenow.com/event/reel-rock-19-film-tour
END:VEVENT
END:VCALENDAR